BEGIN:VCALENDAR
VERSION:2.0
PRODID:-//aengie.net - ECPv6.14.2//NONSGML v1.0//EN
CALSCALE:GREGORIAN
METHOD:PUBLISH
X-ORIGINAL-URL:https://aengie.net
X-WR-CALDESC:Veranstaltungen für aengie.net
REFRESH-INTERVAL;VALUE=DURATION:PT1H
X-Robots-Tag:noindex
X-PUBLISHED-TTL:PT1H
BEGIN:VTIMEZONE
TZID:Europe/Berlin
BEGIN:DAYLIGHT
TZOFFSETFROM:+0100
TZOFFSETTO:+0200
TZNAME:CEST
DTSTART:20260329T010000
END:DAYLIGHT
BEGIN:STANDARD
TZOFFSETFROM:+0200
TZOFFSETTO:+0100
TZNAME:CET
DTSTART:20261025T010000
END:STANDARD
END:VTIMEZONE
BEGIN:VEVENT
DTSTART;TZID=Europe/Berlin:20260429T143000
DTEND;TZID=Europe/Berlin:20260429T153000
DTSTAMP:20260423T124344
CREATED:20260107T093805Z
LAST-MODIFIED:20260107T093805Z
UID:14508-1777473000-1777476600@aengie.net
SUMMARY:Klinische Genetik: Bindegewebserkrankungen
DESCRIPTION:Referentin:\nDr. med. Vanessa Hochheimer\,\nBioscientia Ingelheim \nZielgruppe: Ärzte\nDiese Fortbildung ist kostenfrei\nFortbildungspunkte: Beantragung läuft
URL:https://aengie.net/event/klinische-genetik-bindegewebserkrankungen/
LOCATION:Online
END:VEVENT
BEGIN:VEVENT
DTSTART;TZID=Europe/Berlin:20260506T143000
DTEND;TZID=Europe/Berlin:20260506T173000
DTSTAMP:20260423T124344
CREATED:20260108T084950Z
LAST-MODIFIED:20260108T084950Z
UID:14510-1778077800-1778088600@aengie.net
SUMMARY:EBM advanced – Entdecken Sie die Möglichkeiten
DESCRIPTION:Referent:\nDr. Hans-Georg Lambrecht\,\nAbrechnungsmanager Arztpraxis (IHK)\,\nAbteilung Recht\, Bioscientia Ingelheim \nZielgruppe: Ärzte und Praxisteam\nKosten pro Person: 35 €\nFortbildungspunkte: Beantragung läuft
URL:https://aengie.net/event/ebm-advanced-entdecken-sie-die-moeglichkeiten/
LOCATION:Online
END:VEVENT
BEGIN:VEVENT
DTSTART;TZID=Europe/Berlin:20260513T143000
DTEND;TZID=Europe/Berlin:20260513T153000
DTSTAMP:20260423T124344
CREATED:20260108T085630Z
LAST-MODIFIED:20260108T085630Z
UID:14513-1778682600-1778686200@aengie.net
SUMMARY:Warum Genetik? Relevanz für alle Fachrichtungen
DESCRIPTION:Referentin:\nDr.med. Malin Dewenter\,\nBioscientia Ingelheim \nZielgruppe: Ärzte\nDiese Fortbildung ist kostenfrei\nFortbildungspunkte: Beantragung läuft
URL:https://aengie.net/event/warum-genetik-relevanz-fuer-alle-fachrichtungen/
LOCATION:Online
END:VEVENT
BEGIN:VEVENT
DTSTART;TZID=Europe/Berlin:20260520T150000
DTEND;TZID=Europe/Berlin:20260520T170000
DTSTAMP:20260423T124344
CREATED:20260108T085807Z
LAST-MODIFIED:20260108T085807Z
UID:14515-1779289200-1779296400@aengie.net
SUMMARY:Erfolgsstrategien für Selbstzahlerleistungen: Teamwork in der Arztpraxis
DESCRIPTION:Referentin:\nDr. Andrea Schuhmacher\nDiplom-Psychologin\, Trainerin & Coach für Personalentwicklung \nZielgruppe: Ärzte und Praxisteam\nKosten pro Person: 35 €
URL:https://aengie.net/event/erfolgsstrategien-fuer-selbstzahlerleistungen-teamwork-in-der-arztpraxis/
LOCATION:Online
END:VEVENT
BEGIN:VEVENT
DTSTART;TZID=Europe/Berlin:20260527T143000
DTEND;TZID=Europe/Berlin:20260527T153000
DTSTAMP:20260423T124344
CREATED:20260108T085943Z
LAST-MODIFIED:20260108T085943Z
UID:14517-1779892200-1779895800@aengie.net
SUMMARY:Genetik in der Kardiologie: Herzrhythmusstörungen
DESCRIPTION:Referent:\nZafer Yüksel\, MD\,\nBioscientia Ingelheim \nZielgruppe: Ärzte\nDiese Fortbildung ist kostenfrei\nFortbildungspunkte: Beantragung läuft
URL:https://aengie.net/event/genetik-in-der-kardiologie-herzrhythmusstoerungen/
LOCATION:Online
END:VEVENT
BEGIN:VEVENT
DTSTART;TZID=Europe/Berlin:20260603T143000
DTEND;TZID=Europe/Berlin:20260603T163000
DTSTAMP:20260423T124344
CREATED:20260114T094650Z
LAST-MODIFIED:20260114T094934Z
UID:14525-1780497000-1780504200@aengie.net
SUMMARY:Datenschutz im Praxisalltag – Sicher und sinnvoll umgesetzt
DESCRIPTION:Mittwoch\, 03. Juni 2026\n14:30 – 16:30 Uhr \nReferentin:\nUte Och\, Leitung Qualitätsmanagement\,\nBioscientia MVZ Labor Karlsruhe GmbH \nZielgruppe: Ärzte und Praxisteam\nKosten pro Person: 35 €\nFortbildungspunkte: Beantragung läuft \nIhre Einladung können Sie demnächst hier downloaden.
URL:https://aengie.net/event/datenschutz-im-praxisalltag-sicher-und-sinnvoll-umgesetzt-2/
LOCATION:Online
END:VEVENT
BEGIN:VEVENT
DTSTART;TZID=Europe/Berlin:20260609T183000
DTEND;TZID=Europe/Berlin:20260609T203000
DTSTAMP:20260423T124344
CREATED:20260114T094905Z
LAST-MODIFIED:20260114T094905Z
UID:14527-1781029800-1781037000@aengie.net
SUMMARY:Mehr Praxiserfolg durch effektive Mitarbeiterführung – Führung Teil 1
DESCRIPTION:Referentin:\nDr. Andrea Schuhmacher\nDiplom-Psychologin\, Trainerin & Coach für Personalentwicklung \nZielgruppe: Ärzte und Praxisteam\nKosten pro Person: 35 €
URL:https://aengie.net/event/mehr-praxiserfolg-durch-effektive-mitarbeiterfuehrung-fuehrung-teil-1/
LOCATION:Online
END:VEVENT
BEGIN:VEVENT
DTSTART;TZID=Europe/Berlin:20260617T143000
DTEND;TZID=Europe/Berlin:20260617T173000
DTSTAMP:20260423T124344
CREATED:20260114T095354Z
LAST-MODIFIED:20260114T095354Z
UID:14531-1781706600-1781717400@aengie.net
SUMMARY:GOÄ-Intensivtraining – TOP-Seminar
DESCRIPTION:Referentin:\nHeike Busch\, Praxismanagerin\nFachdozentin für Praxis- und Abrechnungsseminare \nZielgruppe: Ärzte und Praxisteam\nKosten pro Person: 35 €\nFortbildungspunkte: Beantragung läuft
URL:https://aengie.net/event/goae-intensivtraining-top-seminar-8/
LOCATION:Online
END:VEVENT
BEGIN:VEVENT
DTSTART;TZID=Europe/Berlin:20260620T100000
DTEND;TZID=Europe/Berlin:20260620T140000
DTSTAMP:20260423T124344
CREATED:20260120T081321Z
LAST-MODIFIED:20260120T082452Z
UID:14552-1781949600-1781964000@aengie.net
SUMMARY:Gesundheit- und Diabetestag
DESCRIPTION:Vertreter von Agaplesion Evangelisches Krankenhaus Mittelhessen\, Universitätsklinikum Gießen\, St. Josefs Krankenhaus Balserische Stiftung\, Asklepios Klinik Lich sowie Mitglieder des Ärztenetzes Kreis Gießen und der Abteilung für Leistungsphysiologie und Sporttherapie am Institut für Sportwissenschaft der Justus-Liebig-Universität organisieren seit 2019 die Gesundheit- und Diabetestage. \nDas Ziel ist die Bewohnerinnen und Bewohner der Stadt und des Landkreises Gießen zu körperlicher Aktivität aufzurufen. Es gibt Vorträge zum Thema Gesundheit für Interessierte\, eine Lebenstilberatung über Lebensstiländerung durch Studierende der Abteilung für Sportphysiologie und Sporttherapie\, eine Speedberatung zum Thema gesunde Ernährung durch die Berufsfachschule für Diätassistenz\, ein Fußball Turnier für die Kinder sowie verschiedene Stände und Sportangebote. \nDer Tag startet um 10 Uhr mit einer Begrüßung. Anschließend startet das Programm für die Kinder: der Fußballcampus\, Kinderschminken und eine Hüpfburg. \nFür alle Interessierten gibt es Stände rund um das Thema Gesundheit sowie individuelle Beratungen durch Experten. Außerdem gibt es die Möglichkeit zu sportlichen Aktivitäten unter Anleitung von Sportstudierenden. \nUm 13 Uhr findet eine gemeinsame Abschlussveranstaltung mit Tanzvorführungen statt. \nWir freuen uns über Ihre Teilnahme. Nähere Informationen finden sie hier. \n 
URL:https://aengie.net/event/gesundheit-und-diabetestag/
LOCATION:Sportwissenschaftliches Institut am Kugelberg\, Kugelberg 62\, Gießen\, Deutschland\, 35394
ORGANIZER;CN="%C3%84ngie e.V.":MAILTO:info@aengie.net
END:VEVENT
BEGIN:VEVENT
DTSTART;TZID=Europe/Berlin:20260623T183000
DTEND;TZID=Europe/Berlin:20260623T203000
DTSTAMP:20260423T124344
CREATED:20260114T095544Z
LAST-MODIFIED:20260114T095544Z
UID:14533-1782239400-1782246600@aengie.net
SUMMARY:Führung des Praxisteams: Teamführung ist ein eigener Job – Führung 2
DESCRIPTION:Referentin:\nDr. Andrea Schuhmacher\nDiplom-Psychologin\, Trainerin & Coach für Personalentwicklung \nZielgruppe: Ärzte und Praxisteam\nKosten pro Person: 35 €
URL:https://aengie.net/event/fuehrung-des-praxisteams-teamfuehrung-ist-ein-eigener-job-fuehrung-2/
LOCATION:Online
END:VEVENT
BEGIN:VEVENT
DTSTART;TZID=Europe/Berlin:20260624T143000
DTEND;TZID=Europe/Berlin:20260624T153000
DTSTAMP:20260423T124344
CREATED:20260114T095717Z
LAST-MODIFIED:20260114T095717Z
UID:14535-1782311400-1782315000@aengie.net
SUMMARY:Genetik in der Dermatologie
DESCRIPTION:Referentin:\nDr. med. Sinja Kron\,\nBioscientia Ingelheim \nZielgruppe: Ärzte\nDiese Fortbildung ist kostenfrei.\nFortbildungspunkte: Beantragung läuft
URL:https://aengie.net/event/genetik-in-der-dermatologie-2/
LOCATION:Online
END:VEVENT
BEGIN:VEVENT
DTSTART;TZID=Europe/Berlin:20260708T143000
DTEND;TZID=Europe/Berlin:20260708T173000
DTSTAMP:20260423T124344
CREATED:20260115T085912Z
LAST-MODIFIED:20260115T085912Z
UID:14538-1783521000-1783531800@aengie.net
SUMMARY:GOÄ-Grundlagen – Basis zur optimierten Abrechnung
DESCRIPTION:Referent:\nDr. Hans-Georg Lambrecht\,\nAbrechnungsmanager Arztpraxis (IHK)\,\nAbteilung Recht\, Bioscientia Ingelheim \nZielgruppe: Ärzte und Praxisteam\nKosten pro Person: 35 €\nFortbildungspunkte: Beantragung läuft
URL:https://aengie.net/event/goae-grundlagen-basis-zur-optimierten-abrechnung/
LOCATION:Online
END:VEVENT
BEGIN:VEVENT
DTSTART;TZID=Europe/Berlin:20260819T143000
DTEND;TZID=Europe/Berlin:20260819T153000
DTSTAMP:20260423T124344
CREATED:20260115T090056Z
LAST-MODIFIED:20260115T090056Z
UID:14540-1787149800-1787153400@aengie.net
SUMMARY:Genetik in der Hausarztpraxis
DESCRIPTION:Referentin:\nDr. med. Johanna Tecklenburg\,\nBioscientia Ingelheim \nZielgruppe: Ärzte\nFortbildungspunkte: Beantragung läuft\nDiese Fortbildung ist kostenfrei
URL:https://aengie.net/event/genetik-in-der-hausarztpraxis/
LOCATION:Online
END:VEVENT
BEGIN:VEVENT
DTSTART;TZID=Europe/Berlin:20260826T143000
DTEND;TZID=Europe/Berlin:20260826T163000
DTSTAMP:20260423T124344
CREATED:20260115T090241Z
LAST-MODIFIED:20260115T090241Z
UID:14542-1787754600-1787761800@aengie.net
SUMMARY:Qualitätsmanagement – Die Basis für ein gutes Praxismanagement
DESCRIPTION:Referentin:\nUte Och\, Leitung Qualitätsmanagement\,\nBioscientia MVZ Labor Karlsruhe GmbH \nZielgruppe: Ärzte und Praxisteam\nKosten pro Person: 35 €\nFortbildungspunkte: Beantragung läuft
URL:https://aengie.net/event/qualitaetsmanagement-die-basis-fuer-ein-gutes-praxismanagement/
LOCATION:Online
END:VEVENT
BEGIN:VEVENT
DTSTART;TZID=Europe/Berlin:20260902T150000
DTEND;TZID=Europe/Berlin:20260902T170000
DTSTAMP:20260423T124344
CREATED:20260122T082758Z
LAST-MODIFIED:20260122T082758Z
UID:14577-1788361200-1788368400@aengie.net
SUMMARY:Die Macht des ersten Eindrucks – Das Telefon als „Visitenkarte“ der Arztpraxis
DESCRIPTION:Referentin:\nDr. Andrea Schuhmacher\nDiplom-Psychologin\, Trainerin & Coach für Personalentwicklung \nZielgruppe: Ärzte und Praxisteam\nKosten pro Person: 35 €
URL:https://aengie.net/event/die-macht-des-ersten-eindrucks-das-telefon-als-visitenkarte-der-arztpraxis-3/
LOCATION:Online
END:VEVENT
BEGIN:VEVENT
DTSTART;TZID=Europe/Berlin:20260909T143000
DTEND;TZID=Europe/Berlin:20260909T173000
DTSTAMP:20260423T124344
CREATED:20260122T083127Z
LAST-MODIFIED:20260122T083127Z
UID:14579-1788964200-1788975000@aengie.net
SUMMARY:GOÄ-Intensivtraining – TOP-Seminar
DESCRIPTION:Referentin:\nHeike Busch\, Praxismanagerin\nFachdozentin für Praxis- und Abrechnungsseminare \nZielgruppe: Ärzte und Praxisteam\nKosten pro Person: 35 €\nFortbildungspunkte: Beantragung läuft
URL:https://aengie.net/event/goae-intensivtraining-top-seminar-9/
LOCATION:Online
END:VEVENT
BEGIN:VEVENT
DTSTART;TZID=Europe/Berlin:20260916T150000
DTEND;TZID=Europe/Berlin:20260916T170000
DTSTAMP:20260423T124344
CREATED:20260122T083309Z
LAST-MODIFIED:20260122T083309Z
UID:14581-1789570800-1789578000@aengie.net
SUMMARY:Power Talk: So werden Sie zum Kommunikationsprofi mit Patienten und Praxisteam
DESCRIPTION:Referentin:\nDr. Andrea Schuhmacher\nDiplom-Psychologin\, Trainerin & Coach für Personalentwicklung \nZielgruppe: Ärzte und Praxisteam\nKosten pro Person: 35 €
URL:https://aengie.net/event/power-talk-so-werden-sie-zum-kommunikationsprofi-mit-patienten-und-praxisteam-2/
LOCATION:Online
END:VEVENT
BEGIN:VEVENT
DTSTART;TZID=Europe/Berlin:20260923T143000
DTEND;TZID=Europe/Berlin:20260923T173000
DTSTAMP:20260423T124344
CREATED:20260122T083433Z
LAST-MODIFIED:20260122T083433Z
UID:14583-1790173800-1790184600@aengie.net
SUMMARY:EBM-Grundlagenseminar – Allgemeines\, Aktuelles und Spezielles für die Praxis
DESCRIPTION:Referent:\nDr. Hans-Georg Lambrecht\,\nAbrechnungsmanager Arztpraxis (IHK)\,\nAbteilung Recht\, Bioscientia Ingelheim \nZielgruppe: Ärzte und Praxisteam\nKosten pro Person: 35 €\nFortbildungspunkte: Beantragung läuft
URL:https://aengie.net/event/ebm-grundlagenseminar-allgemeines-aktuelles-und-spezielles-fuer-die-praxis-3/
LOCATION:Online
END:VEVENT
BEGIN:VEVENT
DTSTART;TZID=Europe/Berlin:20260930T150000
DTEND;TZID=Europe/Berlin:20260930T173000
DTSTAMP:20260423T124344
CREATED:20260122T083607Z
LAST-MODIFIED:20260122T083607Z
UID:14585-1790780400-1790789400@aengie.net
SUMMARY:Unverfälschte Laborergebnisse – Sie haben es in der Hand
DESCRIPTION:Referentin:\nIris Gräsel\, Fachberatung Labor\nBioscientia Ingelheim \nZielgruppe: Ärzte und Praxisteam\nFortbildungspunkte: Beantragung läuft\nDiese Fortbildung ist kostenfrei
URL:https://aengie.net/event/unverfaelschte-laborergebnisse-sie-haben-es-in-der-hand-6/
LOCATION:Online
END:VEVENT
BEGIN:VEVENT
DTSTART;TZID=Europe/Berlin:20261007T143000
DTEND;TZID=Europe/Berlin:20261007T153000
DTSTAMP:20260423T124344
CREATED:20260128T094244Z
LAST-MODIFIED:20260128T094244Z
UID:14608-1791383400-1791387000@aengie.net
SUMMARY:Genetik in der Pädiatrie: Makrozaphalus-Großwuchs
DESCRIPTION:Referentin:\nDr. med. Dr. rer. nat. Mojgan Drasdo\,\nBioscientia Ingelheim \nZielgruppe: Ärzte\nFortbildungspunkte: Beantragung läuft\nDiese Fortbildung ist kostenfrei.
URL:https://aengie.net/event/genetik-in-der-paediatrie-makrozaphalus-grosswuchs-2/
LOCATION:Online
END:VEVENT
BEGIN:VEVENT
DTSTART;TZID=Europe/Berlin:20261014T150000
DTEND;TZID=Europe/Berlin:20261014T170000
DTSTAMP:20260423T124344
CREATED:20260128T094400Z
LAST-MODIFIED:20260128T094400Z
UID:14610-1791990000-1791997200@aengie.net
SUMMARY:Konfliktmanagement in der Arztpraxis – Konflikte lösen\, Zusammenarbeit verbessern
DESCRIPTION:Referentin:\nDr. Andrea Schuhmacher\nDiplom-Psychologin\, Trainerin & Coach für Personalentwicklung \nZielgruppe: Ärzte und Praxisteam\nKosten pro Person: 35 €
URL:https://aengie.net/event/konfliktmanagement-in-der-arztpraxis-konflikte-loesen-zusammenarbeit-verbessern-2/
LOCATION:Online
END:VEVENT
BEGIN:VEVENT
DTSTART;TZID=Europe/Berlin:20261021T150000
DTEND;TZID=Europe/Berlin:20261021T160000
DTSTAMP:20260423T124344
CREATED:20260128T094533Z
LAST-MODIFIED:20260128T094533Z
UID:14612-1792594800-1792598400@aengie.net
SUMMARY:Warum Darmmikrobiom-Analysen? Diagnostischer Mehrwert & therapeutische Möglichkeiten
DESCRIPTION:Referent:\nNicolas Bone\, Bioscientia Ingelheim \nZielgruppe: Ärzte\nDiese Fortbildung ist kostenfrei.
URL:https://aengie.net/event/warum-darmmikrobiom-analysen-diagnostischer-mehrwert-therapeutische-moeglichkeiten-2/
LOCATION:Online
END:VEVENT
BEGIN:VEVENT
DTSTART;TZID=Europe/Berlin:20261028T150000
DTEND;TZID=Europe/Berlin:20261028T171500
DTSTAMP:20260423T124344
CREATED:20260128T094709Z
LAST-MODIFIED:20260128T094709Z
UID:14614-1793199600-1793207700@aengie.net
SUMMARY:Update Praxishygiene – Worauf achtet das Gesundheitsamt?
DESCRIPTION:Referent:\nDr. med. Georg-Christian Zinn\nBioscientia Zentrum für Hygiene und Infektionsprävention \nZielgruppe: Ärzte und Praxisteam\nKosten pro Person: 35 €\nFortbildungspunkte: Beantragung läuft
URL:https://aengie.net/event/update-praxishygiene-worauf-achtet-das-gesundheitsamt-5/
LOCATION:Online
END:VEVENT
BEGIN:VEVENT
DTSTART;TZID=Europe/Berlin:20261104T150000
DTEND;TZID=Europe/Berlin:20261104T173000
DTSTAMP:20260423T124344
CREATED:20260126T093456Z
LAST-MODIFIED:20260126T093456Z
UID:14592-1793804400-1793813400@aengie.net
SUMMARY:Unverfälschte Laborergebnisse – Sie haben es in der Hand
DESCRIPTION:Referentin: \n\n\n\n\n\n\n\nIris Gräsel\, Praxisbetreuerin I Bioscientia Ingelheim \n\n\n\n\n\n\n\nZielgruppe: Ärzte und Praxisteam\nKosten pro Person: kostenfrei\nFortbildungspunkte: Beantragung läuft
URL:https://aengie.net/event/unverfaelschte-laborergebnisse-sie-haben-es-in-der-hand-7/
LOCATION:Online
END:VEVENT
BEGIN:VEVENT
DTSTART;TZID=Europe/Berlin:20261111T143000
DTEND;TZID=Europe/Berlin:20261111T163000
DTSTAMP:20260423T124344
CREATED:20260126T093659Z
LAST-MODIFIED:20260126T093659Z
UID:14594-1794407400-1794414600@aengie.net
SUMMARY:Arbeitsschutz in der Arztpraxis
DESCRIPTION:Referentin: \n\n\n\n\n\n\n\n\nUte Och\, Leitung Qualitätsmanagement | Bioscientia MVZ Labor Karlsruhe GmbH \n\n\n\n\n\n\n\n\nZielgruppe: Ärzte und Praxisteam\nKosten pro Person: 35€\nFortbildungspunkte: Beantragung läuft
URL:https://aengie.net/event/unverfaelschte-laborergebnisse-sie-haben-es-in-der-hand-7-2/
LOCATION:Online
END:VEVENT
BEGIN:VEVENT
DTSTART;TZID=Europe/Berlin:20261118T143000
DTEND;TZID=Europe/Berlin:20261118T173000
DTSTAMP:20260423T124344
CREATED:20260126T093905Z
LAST-MODIFIED:20260126T093905Z
UID:14596-1795012200-1795023000@aengie.net
SUMMARY:GOÄ-Intensivtraining – TOP-Seminar
DESCRIPTION:Referentin: \n\n\n\n\n\n\n\n\n\nHeike Busch\, Praxismanagerin | Fachdozentin für Ärztliche Abrechnung \n\n\n\n\n\n\n\n\n\nZielgruppe: Ärzte und Praxisteam\nKosten pro Person: 35€\nFortbildungspunkte: Beantragung läuft
URL:https://aengie.net/event/goae-intensivtraining-top-seminar-10/
LOCATION:Online
END:VEVENT
BEGIN:VEVENT
DTSTART;TZID=Europe/Berlin:20261125T150000
DTEND;TZID=Europe/Berlin:20261125T170000
DTSTAMP:20260423T124344
CREATED:20260126T094110Z
LAST-MODIFIED:20260126T094110Z
UID:14598-1795618800-1795626000@aengie.net
SUMMARY:Teamentwicklung für Praxis-Teams – Erfolgreich auf dem Weg zum „Dream-Team“
DESCRIPTION:Referentin: \n\n\n\n\n\n\n\n\n\n\nDr. Andrea Schuhmacher\, Beraterin\, Trainerin & Coach für Personalentwicklung | Dr. Schuhmacher Consulting & Training GmbH \n\n\n\n\n\n\n\n\n\n\nZielgruppe: Ärzte und Praxisteam\nKosten pro Person: 35€\nFortbildungspunkte: Beantragung läuft
URL:https://aengie.net/event/teamentwicklung-fuer-praxis-teams-erfolgreich-auf-dem-weg-zum-dream-team/
LOCATION:Online
END:VEVENT
BEGIN:VEVENT
DTSTART;TZID=Europe/Berlin:20261202T143000
DTEND;TZID=Europe/Berlin:20261202T173000
DTSTAMP:20260423T124344
CREATED:20260126T094412Z
LAST-MODIFIED:20260126T094412Z
UID:14600-1796221800-1796232600@aengie.net
SUMMARY:EBM advanced – Entdecken Sie die Möglichkeiten
DESCRIPTION:Referent: \n\n\n\n\n\n\n\n\n\n\n\nDr. Hans-Georg Lambrecht\, Experte Labor- und Praxisabrechnung | Bioscientia Ingelheim \n\n\n\n\n\n\n\n\n\n\n\nZielgruppe: Ärzte und Praxisteam\nKosten pro Person: 35€\nFortbildungspunkte: Beantragung läuft
URL:https://aengie.net/event/ebm-advanced-entdecken-sie-die-moeglichkeiten-2/
LOCATION:Online
END:VEVENT
BEGIN:VEVENT
DTSTART;TZID=Europe/Berlin:20261209T150000
DTEND;TZID=Europe/Berlin:20261209T170000
DTSTAMP:20260423T124344
CREATED:20260126T094702Z
LAST-MODIFIED:20260126T094711Z
UID:14602-1796828400-1796835600@aengie.net
SUMMARY:Erfolgsstrategien für Selbstzahlerleistungen: Teamwork in der Arztpraxis
DESCRIPTION:Referentin: \n\n\n\n\n\n\n\n\n\n\n\n\nDr. Andrea Schuhmacher\, Beraterin\, Trainerin & Coach für Personalentwicklung | Dr. Schuhmacher Consulting & Training GmbH \n\n\n\n\n\n\n\n\n\n\n\n\nZielgruppe: Ärzte und Praxisteam\nKosten pro Person: 35€
URL:https://aengie.net/event/ebm-advanced-entdecken-sie-die-moeglichkeiten-2-2/
LOCATION:Online
END:VEVENT
END:VCALENDAR